BEGIN:VCALENDAR
VERSION:2.0
PRODID:-//Hundesportfreunde Ratingen e.V. - ECPv6.15.20//NONSGML v1.0//EN
CALSCALE:GREGORIAN
METHOD:PUBLISH
X-WR-CALNAME:Hundesportfreunde Ratingen e.V.
X-ORIGINAL-URL:https://wp.hsf-ratingen.de
X-WR-CALDESC:Veranstaltungen für Hundesportfreunde Ratingen e.V.
REFRESH-INTERVAL;VALUE=DURATION:PT1H
X-Robots-Tag:noindex
X-PUBLISHED-TTL:PT1H
BEGIN:VTIMEZONE
TZID:Europe/Berlin
BEGIN:DAYLIGHT
TZOFFSETFROM:+0100
TZOFFSETTO:+0200
TZNAME:CEST
DTSTART:20240331T010000
END:DAYLIGHT
BEGIN:STANDARD
TZOFFSETFROM:+0200
TZOFFSETTO:+0100
TZNAME:CET
DTSTART:20241027T010000
END:STANDARD
BEGIN:DAYLIGHT
TZOFFSETFROM:+0100
TZOFFSETTO:+0200
TZNAME:CEST
DTSTART:20250330T010000
END:DAYLIGHT
BEGIN:STANDARD
TZOFFSETFROM:+0200
TZOFFSETTO:+0100
TZNAME:CET
DTSTART:20251026T010000
END:STANDARD
BEGIN:DAYLIGHT
TZOFFSETFROM:+0100
TZOFFSETTO:+0200
TZNAME:CEST
DTSTART:20260329T010000
END:DAYLIGHT
BEGIN:STANDARD
TZOFFSETFROM:+0200
TZOFFSETTO:+0100
TZNAME:CET
DTSTART:20261025T010000
END:STANDARD
BEGIN:DAYLIGHT
TZOFFSETFROM:+0100
TZOFFSETTO:+0200
TZNAME:CEST
DTSTART:20270328T010000
END:DAYLIGHT
BEGIN:STANDARD
TZOFFSETFROM:+0200
TZOFFSETTO:+0100
TZNAME:CET
DTSTART:20271031T010000
END:STANDARD
END:VTIMEZONE
BEGIN:VEVENT
DTSTART;VALUE=DATE:20260418
DTEND;VALUE=DATE:20260419
DTSTAMP:20260423T161513
CREATED:20251109T083716Z
LAST-MODIFIED:20251109T133628Z
UID:3821-1776470400-1776556799@wp.hsf-ratingen.de
SUMMARY:Begleithundeprüfung
DESCRIPTION:
URL:https://wp.hsf-ratingen.de/event/begleithundepruefung/
LOCATION:Hunde-Sport-Freunde Ratingen 1959 e.V.\, Neu-Dellerhof 1\, Ratingen\, 40882\, Germany
CATEGORIES:VERANSTALTUNGEN
ATTACH;FMTTYPE=image/jpeg:https://wp.hsf-ratingen.de/wp-content/uploads/2025/11/dogstuden1-scaled.jpg
END:VEVENT
BEGIN:VEVENT
DTSTART;VALUE=DATE:20260411
DTEND;VALUE=DATE:20260413
DTSTAMP:20260423T161513
CREATED:20251109T083223Z
LAST-MODIFIED:20251109T133655Z
UID:3815-1775865600-1776038399@wp.hsf-ratingen.de
SUMMARY:Basis Kurs DSV
DESCRIPTION:
URL:https://wp.hsf-ratingen.de/event/basis-kurs-dsv/
LOCATION:Hunde-Sport-Freunde Ratingen 1959 e.V.\, Neu-Dellerhof 1\, Ratingen\, 40882\, Germany
CATEGORIES:VERANSTALTUNGEN
ATTACH;FMTTYPE=image/jpeg:https://wp.hsf-ratingen.de/wp-content/uploads/2025/11/dogstuden1-scaled.jpg
END:VEVENT
BEGIN:VEVENT
DTSTART;VALUE=DATE:20260308
DTEND;VALUE=DATE:20260309
DTSTAMP:20260423T161513
CREATED:20251110T084423Z
LAST-MODIFIED:20260213T122415Z
UID:3897-1772928000-1773014399@wp.hsf-ratingen.de
SUMMARY:Rally Obedience Mini-Turnier
DESCRIPTION:
URL:https://wp.hsf-ratingen.de/event/rally-obedience-turnier/
LOCATION:Hunde-Sport-Freunde Ratingen 1959 e.V.\, Neu-Dellerhof 1\, Ratingen\, 40882\, Germany
CATEGORIES:Rally Obedience Turnier,Turniere,VERANSTALTUNGEN
ATTACH;FMTTYPE=image/jpeg:https://wp.hsf-ratingen.de/wp-content/uploads/2025/10/obi2-scaled.jpg
END:VEVENT
BEGIN:VEVENT
DTSTART;TZID=Europe/Berlin:20260307T110000
DTEND;TZID=Europe/Berlin:20260307T170000
DTSTAMP:20260423T161513
CREATED:20260125T132450Z
LAST-MODIFIED:20260125T132450Z
UID:4021-1772881200-1772902800@wp.hsf-ratingen.de
SUMMARY:Jahreshauptversammlung des HSF Ratingen 1959 e.V
DESCRIPTION:Anträge stimmberechtigter Vereinsmitglieder\, die in der Versammlung behandelt werden sollen\, müssen dem \ngeschäftsführenden Vereinsvorstand bis zum 21.02.2026 (2 Wochen vorher) vorliegen. \nTagesordnung \n1. Eröffnung und Begrüßung\, Ordnungsmäßigkeit der Einberufung \n2. Anwesenheitsfeststellung\, Beschlussfähigkeit \n3. Genehmigung der Tagesordnung \n4. Genehmigung des Protokolls der Jahreshauptversammlung vom 23.03.2025 (Anhang zur Einladung\, wird \nnicht während der Versammlung verlesen) \n5. Neuaufnahmen & Entwicklung Mitgliederbestand \n6. Ehrungen \n7. Anträge \n8. Berichte \n8.1 Vorstand (wird verlesen) \n8.2 Kassiererin (wird verlesen) \n8.3 Kassenprüfer (wird verlesen) \n8.4 Agility (Anhang zur Einladung) \n8.5 Obedience\, Rally Obedience und Hoopers (Anhang zur Einladung) \n8.6 Platzwart (Anhang zur Einladung) \n9. Aussprache zu den Berichten \n10. Entlastung der Kassenprüfer \n11. Entlastung des Vorstands \n12. Wahlen \n12.1 1. Vorsitzende(r) \n12.2 Geschäftsführer(in) \n12.3 Jugendwart \n12.4 Ersatz-Kassenprüfer(in) \n13. Planung (Turniere\, Prüfungen\, regelmäßige Versammlungen\, Seminare) \n14. Verschiedenes
URL:https://wp.hsf-ratingen.de/event/jahreshauptversammlung-des-hsf-ratingen-1959-e-v/
LOCATION:Hunde-Sport-Freunde Ratingen 1959 e.V.\, Neu-Dellerhof 1\, Ratingen\, 40882\, Germany
CATEGORIES:VERANSTALTUNGEN
ATTACH;FMTTYPE=image/avif:https://wp.hsf-ratingen.de/wp-content/uploads/2026/01/Versammlung-scaled.avif
END:VEVENT
BEGIN:VEVENT
DTSTART;TZID=Europe/Berlin:20260111T100000
DTEND;TZID=Europe/Berlin:20260111T120000
DTSTAMP:20260423T161513
CREATED:20251115T101238Z
LAST-MODIFIED:20251117T181015Z
UID:3920-1768125600-1768132800@wp.hsf-ratingen.de
SUMMARY:Agility Abteilungsversammlung
DESCRIPTION:
URL:https://wp.hsf-ratingen.de/event/agility-abteilungsversammlung/
LOCATION:Hunde-Sport-Freunde Ratingen 1959 e.V.\, Neu-Dellerhof 1\, Ratingen\, 40882\, Germany
CATEGORIES:Agility Termin,VERANSTALTUNGEN
ATTACH;FMTTYPE=image/png:https://wp.hsf-ratingen.de/wp-content/uploads/2025/10/huerde3.png
END:VEVENT
BEGIN:VEVENT
DTSTART;VALUE=DATE:20251207
DTEND;VALUE=DATE:20251208
DTSTAMP:20260423T161513
CREATED:20251109T082624Z
LAST-MODIFIED:20251109T133712Z
UID:3811-1765065600-1765151999@wp.hsf-ratingen.de
SUMMARY:Weihnachtsmarkt Glückshunde
DESCRIPTION:
URL:https://wp.hsf-ratingen.de/event/weihnachtsmarkt-glueckshunde/
LOCATION:Hunde-Sport-Freunde Ratingen 1959 e.V.\, Neu-Dellerhof 1\, Ratingen\, 40882\, Germany
CATEGORIES:VERANSTALTUNGEN
ATTACH;FMTTYPE=image/jpeg:https://wp.hsf-ratingen.de/wp-content/uploads/2025/11/xmasdaog1-scaled.jpg
END:VEVENT
BEGIN:VEVENT
DTSTART;TZID=Europe/Berlin:20251130T140000
DTEND;TZID=Europe/Berlin:20251130T190000
DTSTAMP:20260423T161513
CREATED:20251108T205716Z
LAST-MODIFIED:20251119T202130Z
UID:3798-1764511200-1764529200@wp.hsf-ratingen.de
SUMMARY:Weihnachtsfeier
DESCRIPTION:Weihnachtsfeier 30.11. \n\n14 uhr spazieren\n16 Uhr Vereinsheim\n\nDie Runde ist ca. 1\,5 Std. Mit suchen\n5km. \nEs wird eine Rally mit einfachen Fragen. \nFür die\, die nicht ganz so gut zu Fuß sind\, gibt es eine Abkürzung\, diese kann aber rutschig sein wenn es viel geregnet hat\, Dann wäre die Runde nur ca. 3\,5 km lang ?
URL:https://wp.hsf-ratingen.de/event/weihnachtsfeier/
LOCATION:Hunde-Sport-Freunde Ratingen 1959 e.V.\, Neu-Dellerhof 1\, Ratingen\, 40882\, Germany
CATEGORIES:VERANSTALTUNGEN
ATTACH;FMTTYPE=image/jpeg:https://wp.hsf-ratingen.de/wp-content/uploads/2025/11/xmasdaog1-scaled.jpg
END:VEVENT
END:VCALENDAR